BEGIN:VCALENDAR
VERSION:2.0
PRODID:-//Northern Colorado Fireshed Collaborative - ECPv6.11.2//NONSGML v1.0//EN
CALSCALE:GREGORIAN
METHOD:PUBLISH
X-ORIGINAL-URL:https://nocofireshed.org
X-WR-CALDESC:Events for Northern Colorado Fireshed Collaborative
REFRESH-INTERVAL;VALUE=DURATION:PT1H
X-Robots-Tag:noindex
X-PUBLISHED-TTL:PT1H
BEGIN:VTIMEZONE
TZID:UTC
BEGIN:STANDARD
TZOFFSETFROM:+0000
TZOFFSETTO:+0000
TZNAME:UTC
DTSTART:20220101T000000
END:STANDARD
END:VTIMEZONE
BEGIN:VEVENT
DTSTART;TZID=UTC:20231113T183000
DTEND;TZID=UTC:20231113T193000
DTSTAMP:20260420T195049
CREATED:20231106T162929Z
LAST-MODIFIED:20231106T162929Z
UID:2004-1699900200-1699903800@nocofireshed.org
SUMMARY:Pile Burning Informational Meeting - Estes Valley Area
DESCRIPTION:As the first snows of winter arrive\, foresters and fire managers are making plans for the pile burning season. Pile burning is an important tool used by public and private land managers to thin overgrown forests and reduce the potential damaging effects of unplanned fires — part of addressing Colorado’s wildfire crisis. Pile burning occurs under very specific conditions when temperatures have cooled and snow is present to help fire managers contain the burn. The Roosevelt National Forest\, Rocky Mountain National Park and Estes Valley Watershed Coalition are offering the public an opportunity to learn more about the pile burning projects planned near Estes Park\, Glen Haven\, Drake and Allenspark this winter. Please join us and come with your questions! \nWhen: Nov. 13\, 2023\, 6:30-7:30 p.m. \nWhere: Estes Valley Community Center – 660 Community Dr\, Estes Park\, CO 80517
URL:https://nocofireshed.org/event/pile-burning-informational-meeting-estes-valley-area/
CATEGORIES:community meeting
ATTACH;FMTTYPE=image/jpeg:https://nocofireshed.org/wp-content/uploads/2023/01/IMG_2798.jpeg
END:VEVENT
BEGIN:VEVENT
DTSTART;TZID=UTC:20231109T180000
DTEND;TZID=UTC:20231109T193000
DTSTAMP:20260420T195049
CREATED:20231102T172045Z
LAST-MODIFIED:20231102T172045Z
UID:2001-1699552800-1699558200@nocofireshed.org
SUMMARY:Black Diamond Landscape Resiliency and Risk Reduction Project Community Meeting
DESCRIPTION:You are invited to join US Forest Service staff from the Canyon Lakes Ranger District and local partners for an update on the Black Diamond Landscape Resiliency and Risk Reduction Project. The Canyon Lakes Ranger District will utilize this project’s decision to implement a series of vegetation management activities identified through a collaborative process with input from multiple stakeholders\, helping enhance work being done by local communities on Community Wildfire Protection Plans (CWPPs). Learn about how the process will move forward following the Project Decision. Staff and local partners will be available to answer questions. \nTime: Nov. 9\, 2023\, 6-7:30pm \nLocation: Virtual Zoom Meeting \nTo register for the meeting visit: https://us02web.zoom.us/meeting/register/tZwrfuutqDMvHdR2RacTybtpanc4p7hXC7U1 \n  \nFor more info about the Black Diamond project visit this StoryMap: https://bit.ly/USFSBD23
URL:https://nocofireshed.org/event/black-diamond-landscape-resiliency-and-risk-reduction-project-community-meeting/
CATEGORIES:community meeting
ATTACH;FMTTYPE=image/png:https://nocofireshed.org/wp-content/uploads/2023/11/Black-Diamond-meeting_NOV-9-2023_Instagram.png
END:VEVENT
BEGIN:VEVENT
DTSTART;TZID=UTC:20230718T090000
DTEND;TZID=UTC:20230718T160000
DTSTAMP:20260420T195049
CREATED:20230714T163915Z
LAST-MODIFIED:20230714T165128Z
UID:1860-1689670800-1689696000@nocofireshed.org
SUMMARY:Wildfire Matters Review Committee - NoCo Fireshed
DESCRIPTION:The Northern Colorado Fireshed Collaborative has been invited to present to the Wildfire Matters Review Committee on July 18\, 2023 at the State Capitol Building in Denver. The agenda is as follows: \n \nTo listen to the live stream visit: https://leg.colorado.gov/watch-listen \nTo participate in public testimony during this hearing\, either in-person or remote at 3:30pm\, visit this link to sign up: www2.leg.state.co.us/CLICS/CLICS2023A/commsumm.nsf/signIn.xsp (scroll down to the “Interim Committees” section and choose “Wildfire Matters Review Committee”) \nYou may also submit written testimony using the above link. \n  \nAbout the Wildfire Matters Review Committee\nThe committee is charged with reviewing and proposing legislation or other policy changes related to wildfire prevention\, mitigation\, and related matters\, including public safety and forest health issues.  Senate Bill 13-082 created the Wildfire Matters Review Committee as an interim committee and Senate Bill 18-039 extended the repeal date of the committee to September 1\, 2025. To learn more visit: www.leg.colorado.gov/committees/wildfire-matters-review-committee/2019-regular-session 
URL:https://nocofireshed.org/event/wildfire-matters-review-committee-noco-fireshed/
LOCATION:Old Supreme Court Building\, Denver\, CO\, United States
CATEGORIES:community meeting
ATTACH;FMTTYPE=image/png:https://nocofireshed.org/wp-content/uploads/2023/07/wmrc.png
END:VEVENT
BEGIN:VEVENT
DTSTART;TZID=UTC:20230213T180000
DTEND;TZID=UTC:20230213T200000
DTSTAMP:20260420T195049
CREATED:20230112T225715Z
LAST-MODIFIED:20230112T232007Z
UID:1628-1676311200-1676318400@nocofireshed.org
SUMMARY:Poudre Canyon Fire Protection District Community Wildfire Protection Plan Community Meetings
DESCRIPTION:Join Poudre Canyon Fire Protection District’s effort to update their Community Wildfire Protection Plan by providing your valuable input and learn more about the process! Join us in February at one of the three community meetings to learn more and share your thoughts.
URL:https://nocofireshed.org/event/poudre-canyon-fire-protection-district-community-wildfire-protection-plan-community-meetings/
CATEGORIES:community meeting
ATTACH;FMTTYPE=image/jpeg:https://nocofireshed.org/wp-content/uploads/2023/01/PCFPD-CWPP-Community-Meeting-Flyer.jpg
END:VEVENT
BEGIN:VEVENT
DTSTART;TZID=UTC:20230123T100000
DTEND;TZID=UTC:20230123T120000
DTSTAMP:20260420T195049
CREATED:20221220T182808Z
LAST-MODIFIED:20221220T182808Z
UID:1605-1674468000-1674475200@nocofireshed.org
SUMMARY:Poudre Canyon Fire Protection Dist. - CWPP Stakeholder Engagement Meeting
DESCRIPTION:Time: January 23rd\, 2023 from 10AM to 12PM \nLocation: The Innosphere; 320 E Vine Dr.\, Fort Collins\, CO 80524\n\nThere will be a virtual/call-in option for those who can’t attend in-person. The CWPP planning team will provide a link via email to participants prior to the meeting.\n\nFor any questions related to this meeting\, feel free to reach out to Gretchen Reuning from the Larimer Conservation District: gretchen@larimercd.org\n\nThanks for your interest in attending this meeting! We look forward to hearing your input.\n\nTo register visit: https://forms.gle/zbc5BrSitPydyzi67
URL:https://nocofireshed.org/event/poudre-canyon-fire-protection-dist-cwpp-stakeholder-engagement-meeting/
CATEGORIES:community meeting
ATTACH;FMTTYPE=image/png:https://nocofireshed.org/wp-content/uploads/2022/12/PCFPD-Stakeholder-Meeting-Flyer-Square.png
END:VEVENT
BEGIN:VEVENT
DTSTART;TZID=UTC:20220914T180000
DTEND;TZID=UTC:20220914T193000
DTSTAMP:20260420T195049
CREATED:20220901T172141Z
LAST-MODIFIED:20220902T184217Z
UID:1463-1663178400-1663183800@nocofireshed.org
SUMMARY:Community Meeting: Black Diamond Landscape Resiliency and Risk Reduction Project
DESCRIPTION:Join US Forest Service staff and other community partners for an in-person community meeting on Sept. 14th at 6pm at the Red Feather Lakes Community Hall (58 Firehouse Ln\, Red Feather Lakes\, CO) to learn about the Black Diamond Landscape Resiliency and Risk Reduction Project. This multi-jurisdictional\, collaborative project supports the three primary objectives of the National Cohesive Wildfire Management Strategy of restoring and maintaining resilient landscapes\, creating fire-adapted communities\, and wildfire response. \nThe recommended scope of the project is proposed to generally include all Forest Service lands south of Canyon Lakes Ranger District (CLRD) northern administrative boundary (Wyoming border)\, west of the Canyon Lakes Ranger District eastern administrative boundary\, north of SH 14 and west of Larimer CR 103. 
URL:https://nocofireshed.org/event/community-meeting-black-diamond-sept14/
LOCATION:Red Feather Community Hall
CATEGORIES:community meeting
ATTACH;FMTTYPE=image/png:https://nocofireshed.org/wp-content/uploads/2022/09/Black-Diamond-meeting_Sept14.png
END:VEVENT
END:VCALENDAR