BEGIN:VCALENDAR
VERSION:2.0
PRODID:-//Northern Colorado Fireshed Collaborative - ECPv6.11.2//NONSGML v1.0//EN
CALSCALE:GREGORIAN
METHOD:PUBLISH
X-ORIGINAL-URL:https://nocofireshed.org
X-WR-CALDESC:Events for Northern Colorado Fireshed Collaborative
REFRESH-INTERVAL;VALUE=DURATION:PT1H
X-Robots-Tag:noindex
X-PUBLISHED-TTL:PT1H
BEGIN:VTIMEZONE
TZID:UTC
BEGIN:STANDARD
TZOFFSETFROM:+0000
TZOFFSETTO:+0000
TZNAME:UTC
DTSTART:20220101T000000
END:STANDARD
END:VTIMEZONE
BEGIN:VEVENT
DTSTART;TZID=UTC:20221008T100000
DTEND;TZID=UTC:20221008T140000
DTSTAMP:20260421T023458
CREATED:20220916T200830Z
LAST-MODIFIED:20220916T200830Z
UID:1486-1665223200-1665237600@nocofireshed.org
SUMMARY:Trek the Thompson
DESCRIPTION:Big Thompson Watershed Coalition\, a local non-profit organization focused on protecting  and restoring the Big Thompson watershed for both human and natural communities\, is hosting their  second Trek the Thompson community event on Saturday\, October 8th\, 10am – 2pm\, at Fairgrounds Park in  Loveland\, CO.  \nTrek the Thompson is a FREE family friendly\, community event that celebrates the Big Thompson River and  helps to educate participants of the many important things the river brings to our communities.  Participants will explore the role of the river as an important habitat for wildlife\, a recreation area\, and a  source of clean water\, among many other topics.   \nThe event features a variety of activities including hands-on activities for all ages at education stations\, a  mild 3-mile poker “stroll” along the Big Thompson River for a chance to win locally donated prizes\, a silent  auction\, live music by bands Heart Medicine and Creekbed\, and the Fork Yeah! food truck.  \nThe public is invited to stop by at any point during the event\, however\, registration is required to  participate in event activities. Registration comes with a free re-useable canvas tote.   \nFestival sponsors include our title sponsors the City of Loveland and Northern Colorado Water Conservancy  District as well as many others.   \nSo\, what about the prizes? At each of the education stations\, attendees will collect a poker card. At the end  of their trek\, they can choose their best 5-card hand to play. Winning poker hands will receive locally  donated prizes from businesses including Scheels\, Loveland Laser Tag\, Big Thompson Brewery\, Breeze Thru\,  and many more! At the silent auction booth\, participants can bid on items including fly rods\, guided fishing  trips\, a stay at Sylvan Dale Guest Ranch\, handmade pottery\, Budweiser Event Center tickets\, and more.   \nVisit the event website to register and to learn more about our sponsors and the locally donated prizes. https://www.trekmanadventures.com/trek-the-thompson-event.html  \nhttps://www.facebook.com/events/793415975014929  \nThe proceeds raised at the event will support Big Thompson Watershed Coalition’s continued work in the  watershed\, which includes wildfire recovery and landowner assistance\, river and stream restoration  projects\, forest management to reduce the risk of future wildfire\, as well as education and outreach to the  community. 
URL:https://nocofireshed.org/event/trek-the-thompson/
CATEGORIES:fundraiser
ATTACH;FMTTYPE=image/png:https://nocofireshed.org/wp-content/uploads/2022/09/Trek-the-Thompson-2022-IG-Post.png
END:VEVENT
END:VCALENDAR